BEGIN:VCALENDAR
VERSION:2.0
PRODID:-//Bloom Toddler Classes Dorset
CALSCALE:GREGORIAN
METHOD:PUBLISH
X-WR-CALNAME:Bloom Toddler Classes Dorset
X-ORIGINAL-URL:https://bloomtoddlerclasses.com/dorset/product/%f0%9f%8d%82autumn-term-1%f0%9f%8d%82-monday-9-45am-creative-learners-walking-24-months-at-church-of-the-transfiguration/
X-WR-CALDESC:🍂Autumn Term 1🍂 Monday 9.45am – Creative Learners Walking-24 months at Church of the Transfiguration
BEGIN:VEVENT
DTSTART;TZID=Europe/Paris:20250908T094500
DTEND;TZID=Europe/Paris:20251013T094500
SUMMARY:🍂Autumn Term 1🍂 Monday 9.45am – Creative Learners Walking-24 months at Church of the Transfiguration
DESCRIPTION:Creative learners is a highly interactive multi-sensory class for toddlers walking – 24 months. All our classes support pre school readiness and encourage your child’s skills and development through dance and play. We can’t wait to welcome you to our classes 💚💙
URL:https://bloomtoddlerclasses.com/dorset/product/%f0%9f%8d%82autumn-term-1%f0%9f%8d%82-monday-9-45am-creative-learners-walking-24-months-at-church-of-the-transfiguration/
LOCATION:Church Of The Transfiguration, Chaddesley Glen, Poole, UK
END:VEVENT
END:VCALENDAR
