BEGIN:VCALENDAR
VERSION:2.0
PRODID:-//Bloom Toddler Classes Dorset
CALSCALE:GREGORIAN
METHOD:PUBLISH
X-WR-CALNAME:Bloom Toddler Classes Dorset
X-ORIGINAL-URL:https://bloomtoddlerclasses.com/dorset/product/payg-%f0%9f%a6%8fzoo-theme%f0%9f%a6%8ffriday-22-5-25-9-30am-creative-learners-walking-24-months-at-canford-heath-community-centre/
X-WR-CALDESC:PAYG 🦏Zoo Theme🦏Friday 22/5/25 9.30am – Creative Learners Walking-24 months at Canford Heath Community Centre
BEGIN:VEVENT
DTSTART;TZID=Europe/Paris:20260522T093000
DTEND;TZID=Europe/Paris:20260522T101500
SUMMARY:PAYG 🦏Zoo Theme🦏Friday 22/5/25 9.30am – Creative Learners Walking-24 months at Canford Heath Community Centre
DESCRIPTION:Creative Learners is a highly interactive multi-sensory class for toddlers walking – 24 months. All our classes support pre school readiness and encourage your child’s skills and development through dance and play. We can’t wait to welcome you to our classes 💚💙 🌟This week's theme is Zoo 🦏 - come to the zoo with me to see what animals you will find!🌟
URL:https://bloomtoddlerclasses.com/dorset/product/payg-%f0%9f%a6%8fzoo-theme%f0%9f%a6%8ffriday-22-5-25-9-30am-creative-learners-walking-24-months-at-canford-heath-community-centre/
LOCATION:Canford Heath Community Centre, Mitchell Road, Canford Heath, Poole, UK
END:VEVENT
END:VCALENDAR
