BEGIN:VCALENDAR
VERSION:2.0
PRODID:-//Bloom Toddler Classes Dorset
CALSCALE:GREGORIAN
METHOD:PUBLISH
X-WR-CALNAME:Bloom Toddler Classes Dorset
X-ORIGINAL-URL:https://bloomtoddlerclasses.com/dorset/product/payg-%f0%9f%a7%aascience-mad-theme%f0%9f%a7%aawednesday-13-5-26-9-15am-mixed-ages-walking-4-years-at-peek-a-boo-and-brew-soft-play-cafe-broadstone/
X-WR-CALDESC:PAYG 🧪Science Mad Theme🧪Wednesday 13/5/26 9.15am – Mixed Ages Walking-4 years at Peek-a-Boo and Brew Soft Play Café, Broadstone
BEGIN:VEVENT
DTSTART;TZID=Europe/Paris:20260513T091500
DTEND;TZID=Europe/Paris:20260513T104500
SUMMARY:PAYG 🧪Science Mad Theme🧪Wednesday 13/5/26 9.15am – Mixed Ages Walking-4 years at Peek-a-Boo and Brew Soft Play Café, Broadstone
DESCRIPTION:Bloom Toddler Classes are highly interactive multi-sensory classes for toddlers walking – 4 years. All our classes support pre school readiness and encourage your child’s skills and development through dance and play. We can’t wait to welcome you to our classes 💚💙 🌟This week's theme is Science Mad 🧪 - complete experiments and have fun together!🌟
URL:https://bloomtoddlerclasses.com/dorset/product/payg-%f0%9f%a7%aascience-mad-theme%f0%9f%a7%aawednesday-13-5-26-9-15am-mixed-ages-walking-4-years-at-peek-a-boo-and-brew-soft-play-cafe-broadstone/
LOCATION:Peek-A-Boo & Brew, Macaulay Road, Broadstone, Poole, Broadstone, UK
END:VEVENT
END:VCALENDAR
