BEGIN:VCALENDAR
VERSION:2.0
PRODID:-//Bloom Toddler Classes Dorset
CALSCALE:GREGORIAN
METHOD:PUBLISH
X-WR-CALNAME:Bloom Toddler Classes Dorset
X-ORIGINAL-URL:https://bloomtoddlerclasses.com/dorset/product/payg-%f0%9f%a7%aascience-mad-theme%f0%9f%a7%aatuesday-12-5-26-11am-mixed-ages-walking-4-years-at-holt-village-hall/
X-WR-CALDESC:PAYG 🧪Science Mad Theme🧪Tuesday 12/5/26 11am – Mixed Ages Walking-4 years at Holt Village Hall
BEGIN:VEVENT
DTSTART;TZID=Europe/Paris:20260512T110000
DTEND;TZID=Europe/Paris:20260512T114500
SUMMARY:PAYG 🧪Science Mad Theme🧪Tuesday 12/5/26 11am – Mixed Ages Walking-4 years at Holt Village Hall
DESCRIPTION:Bloom Toddler Classes are highly interactive multi-sensory classes for toddlers walking – 4 years. All our classes support pre school readiness and encourage your child’s skills and development through dance and play. We can’t wait to welcome you to our classes 💚💙 🌟This week's theme is Science Mad 🧪 - complete experiments and have fun together!🌟
URL:https://bloomtoddlerclasses.com/dorset/product/payg-%f0%9f%a7%aascience-mad-theme%f0%9f%a7%aatuesday-12-5-26-11am-mixed-ages-walking-4-years-at-holt-village-hall/
LOCATION:Holt Village Hall, Hart's Lane, Holt, Wimborne, UK
END:VEVENT
END:VCALENDAR
