BEGIN:VCALENDAR
VERSION:2.0
PRODID:-//Bloom Toddler Classes Dorset
CALSCALE:GREGORIAN
METHOD:PUBLISH
X-WR-CALNAME:Bloom Toddler Classes Dorset
X-ORIGINAL-URL:https://bloomtoddlerclasses.com/dorset/product/payg-%f0%9f%91%91royalty-theme%f0%9f%91%91friday-1-5-25-10-45am-social-superstars-2-4-years-at-canford-heath-community-centre/
X-WR-CALDESC:PAYG 👑Royalty Theme👑Friday 1/5/25 10.45am – Social Superstars 2-4 years at Canford Heath Community Centre
BEGIN:VEVENT
DTSTART;TZID=Europe/Paris:20260501T104500
DTEND;TZID=Europe/Paris:20260501T113000
SUMMARY:PAYG 👑Royalty Theme👑Friday 1/5/25 10.45am – Social Superstars 2-4 years at Canford Heath Community Centre
DESCRIPTION:Social Superstars is a highly interactive multi-sensory class for toddlers ages 2-4 years. All our classes support pre school readiness and encourage your child’s skills and development through dance and play. We can’t wait to welcome you to our classes 💚💙 🌟This week's theme is Royalty 👑 - put on those crowns and get your waving hands ready!🌟
URL:https://bloomtoddlerclasses.com/dorset/product/payg-%f0%9f%91%91royalty-theme%f0%9f%91%91friday-1-5-25-10-45am-social-superstars-2-4-years-at-canford-heath-community-centre/
LOCATION:Canford Heath Community Centre, Mitchell Road, Canford Heath, Poole, UK
END:VEVENT
END:VCALENDAR
