BEGIN:VCALENDAR
VERSION:2.0
PRODID:-//Bloom Toddler Classes Dorset
CALSCALE:GREGORIAN
METHOD:PUBLISH
X-WR-CALNAME:Bloom Toddler Classes Dorset
X-ORIGINAL-URL:https://bloomtoddlerclasses.com/dorset/product/payg-%f0%9f%90%b7down-on-the-farm-theme%f0%9f%90%b7friday-24-04-25-10-45am-social-superstars-2-4-years-at-canford-heath-community-centre/
X-WR-CALDESC:PAYG 🐷Down on the Farm Theme🐷Friday 24/04/25 10.45am – Social Superstars 2-4 years at Canford Heath Community Centre
BEGIN:VEVENT
DTSTART;TZID=Europe/Paris:20260424T104500
DTEND;TZID=Europe/Paris:20260424T113000
SUMMARY:PAYG 🐷Down on the Farm Theme🐷Friday 24/04/25 10.45am – Social Superstars 2-4 years at Canford Heath Community Centre
DESCRIPTION:
URL:https://bloomtoddlerclasses.com/dorset/product/payg-%f0%9f%90%b7down-on-the-farm-theme%f0%9f%90%b7friday-24-04-25-10-45am-social-superstars-2-4-years-at-canford-heath-community-centre/
LOCATION:Canford Heath Community Centre, Mitchell Road, Canford Heath, Poole, UK
END:VEVENT
END:VCALENDAR
