BEGIN:VCALENDAR
VERSION:2.0
PRODID:-//Bloom Toddler Classes Dorset
CALSCALE:GREGORIAN
METHOD:PUBLISH
X-WR-CALNAME:Bloom Toddler Classes Dorset
X-ORIGINAL-URL:https://bloomtoddlerclasses.com/dorset/product/payg-%f0%9f%8c%b8aloha-hawaii-theme%f0%9f%8c%b8friday-17-04-25-9-30am-creative-learners-walking-24-months-at-canford-heath-community-centre/
X-WR-CALDESC:PAYG 🌸Aloha Hawaii Theme🌸Friday 17/04/25 9.30am – Creative Learners Walking-24 months at Canford Heath Community Centre
BEGIN:VEVENT
DTSTART;TZID=Europe/Paris:20260417T093000
DTEND;TZID=Europe/Paris:20260417T101500
SUMMARY:PAYG 🌸Aloha Hawaii Theme🌸Friday 17/04/25 9.30am – Creative Learners Walking-24 months at Canford Heath Community Centre
DESCRIPTION:Creative Learners is a highly interactive multi-sensory class for toddlers walking – 24 months. All our classes support pre school readiness and encourage your child’s skills and development through dance and play. We can’t wait to welcome you to our classes 💚💙 🌟This week's theme is Aloha Hawaii 🌸 - pack your sun cream and let's head off to the sun together!🌟
URL:https://bloomtoddlerclasses.com/dorset/product/payg-%f0%9f%8c%b8aloha-hawaii-theme%f0%9f%8c%b8friday-17-04-25-9-30am-creative-learners-walking-24-months-at-canford-heath-community-centre/
LOCATION:Canford Heath Community Centre, Mitchell Road, Canford Heath, Poole, UK
END:VEVENT
END:VCALENDAR
