BEGIN:VCALENDAR
VERSION:2.0
PRODID:-//Bloom Toddler Classes Dorset
CALSCALE:GREGORIAN
METHOD:PUBLISH
X-WR-CALNAME:Bloom Toddler Classes Dorset
X-ORIGINAL-URL:https://bloomtoddlerclasses.com/dorset/product/payg-%f0%9f%8c%b8aloha-hawaii-theme%f0%9f%8c%b8tuesday-14-04-26-11am-mixed-ages-walking-4-years-at-holt-village-hall/
X-WR-CALDESC:PAYG 🌸Aloha Hawaii Theme🌸Tuesday 14/04/26 11am – Mixed Ages Walking-4 years at Holt Village Hall
BEGIN:VEVENT
DTSTART;TZID=Europe/Paris:20260414T110000
DTEND;TZID=Europe/Paris:20260414T114500
SUMMARY:PAYG 🌸Aloha Hawaii Theme🌸Tuesday 14/04/26 11am – Mixed Ages Walking-4 years at Holt Village Hall
DESCRIPTION:Bloom Toddler Classes are highly interactive multi-sensory classes for toddlers walking – 4 years. All our classes support pre school readiness and encourage your child’s skills and development through dance and play. We can’t wait to welcome you to our classes 💚💙 🌟This week's theme is Aloha Hawaii 🌸 - pack your sun cream and let's head off to the sun together!🌟
URL:https://bloomtoddlerclasses.com/dorset/product/payg-%f0%9f%8c%b8aloha-hawaii-theme%f0%9f%8c%b8tuesday-14-04-26-11am-mixed-ages-walking-4-years-at-holt-village-hall/
LOCATION:Holt Village Hall, Hart's Lane, Holt, Wimborne, UK
END:VEVENT
END:VCALENDAR
