BEGIN:VCALENDAR
VERSION:2.0
PRODID:-//Bloom Toddler Classes Dorset
CALSCALE:GREGORIAN
METHOD:PUBLISH
X-WR-CALNAME:Bloom Toddler Classes Dorset
X-ORIGINAL-URL:https://bloomtoddlerclasses.com/dorset/product/%f0%9f%90%a3easter-extravaganza%f0%9f%90%a3-friday-27th-march-9-30am-mixed-ages-walking-4-years-canford-heath-community-centre-2/
X-WR-CALDESC:🐣Easter Extravaganza🐣 Friday 27th March 11am &#8211; Mixed Ages (walking-4 years) @ Canford Heath Community Centre
BEGIN:VEVENT
DTSTART;TZID=Europe/Paris:20260327T110000
DTEND;TZID=Europe/Paris:20260327T115500
SUMMARY:🐣Easter Extravaganza🐣 Friday 27th March 11am – Mixed Ages (walking-4 years) @ Canford Heath Community Centre
DESCRIPTION:🐇Come and show off your bunny hopping with me!
URL:https://bloomtoddlerclasses.com/dorset/product/%f0%9f%90%a3easter-extravaganza%f0%9f%90%a3-friday-27th-march-9-30am-mixed-ages-walking-4-years-canford-heath-community-centre-2/
LOCATION:Canford Heath Community Centre, Mitchell Road, Canford Heath, Poole, UK
END:VEVENT
END:VCALENDAR
