BEGIN:VCALENDAR
VERSION:2.0
PRODID:-//Bloom Toddler Classes Dorset
CALSCALE:GREGORIAN
METHOD:PUBLISH
X-WR-CALNAME:Bloom Toddler Classes Dorset
X-ORIGINAL-URL:https://bloomtoddlerclasses.com/dorset/product/%f0%9f%90%a3easter-extravaganza%f0%9f%90%a3-wednesday-25th-march-9am-mixed-ages-walking-4-years-peek-a-boo-and-brew-soft-play-cafe/
X-WR-CALDESC:🐣Easter Extravaganza🐣 Wednesday 25th March 9am &#8211; Mixed Ages (walking-4 years) @ Peek-a-Boo and Brew Soft Play Cafe
BEGIN:VEVENT
DTSTART;TZID=Europe/Paris:20260325T090000
DTEND;TZID=Europe/Paris:20260325T104500
SUMMARY:🐣Easter Extravaganza🐣 Wednesday 25th March 9am – Mixed Ages (walking-4 years) @ Peek-a-Boo and Brew Soft Play Cafe
DESCRIPTION:This session is 1hour 45mins which includes 45mins of Bloom fun with an Easter twist, followed by 1hour exclusive soft play! 🐇Come and show off your bunny hopping with me! 
URL:https://bloomtoddlerclasses.com/dorset/product/%f0%9f%90%a3easter-extravaganza%f0%9f%90%a3-wednesday-25th-march-9am-mixed-ages-walking-4-years-peek-a-boo-and-brew-soft-play-cafe/
LOCATION:Peek-A-Boo & Brew, Macaulay Road, Broadstone, Poole, Broadstone, UK
END:VEVENT
END:VCALENDAR
