BEGIN:VCALENDAR
VERSION:2.0
PRODID:-//Bloom Toddler Classes Dorset
CALSCALE:GREGORIAN
METHOD:PUBLISH
X-WR-CALNAME:Bloom Toddler Classes Dorset
X-ORIGINAL-URL:https://bloomtoddlerclasses.com/dorset/product/payg-%f0%9f%9b%81bath-time-theme%f0%9f%9b%81tuesday-17-3-26-11am-mixed-ages-walking-4-years-at-holt-village-hall/
X-WR-CALDESC:PAYG 🛁Bath Time Theme🛁Tuesday 17/3/26 11am – Mixed Ages walking-4 years at Holt Village Hall
BEGIN:VEVENT
DTSTART;TZID=Europe/Paris:20260317T110000
DTEND;TZID=Europe/Paris:20260317T114500
SUMMARY:PAYG 🛁Bath Time Theme🛁Tuesday 17/3/26 11am – Mixed Ages walking-4 years at Holt Village Hall
DESCRIPTION:Bloom Toddler Classes are highly interactive multi-sensory classes for toddlers walking – 4 years. 🌟This week's theme is Bath Time 🛁 - get ready to splish, splash and splosh!🌟
URL:https://bloomtoddlerclasses.com/dorset/product/payg-%f0%9f%9b%81bath-time-theme%f0%9f%9b%81tuesday-17-3-26-11am-mixed-ages-walking-4-years-at-holt-village-hall/
LOCATION:Holt Village Hall, Hart's Lane, Holt, Wimborne, UK
END:VEVENT
END:VCALENDAR
