BEGIN:VCALENDAR
VERSION:2.0
PRODID:-//Bloom Toddler Classes Dorset
CALSCALE:GREGORIAN
METHOD:PUBLISH
X-WR-CALNAME:Bloom Toddler Classes Dorset
X-ORIGINAL-URL:https://bloomtoddlerclasses.com/dorset/product/payg-%f0%9f%92%90mothers-day-theme%f0%9f%92%90-friday-13-3-25-10-45am-social-superstars-2-4-years-at-canford-heath-community-centre/
X-WR-CALDESC:PAYG 💐Mother&#8217;s Day Theme💐 Friday 13/3/25 10.45am – Social Superstars 2-4 years at Canford Heath Community Centre
BEGIN:VEVENT
DTSTART;TZID=Europe/Paris:20260313T104500
DTEND;TZID=Europe/Paris:20260313T113000
SUMMARY:PAYG 💐Mother’s Day Theme💐 Friday 13/3/25 10.45am – Social Superstars 2-4 years at Canford Heath Community Centre
DESCRIPTION:Social Superstars is a highly interactive multi-sensory class for toddlers ages 2-4 years. All our classes support pre school readiness and encourage your child’s skills and development through dance and play. We can’t wait to welcome you to our classes 💚💙 🌟This week's theme is Mother's Day 💐 - come along to celebrate all the fantastic women in your toddler's life!🌟
URL:https://bloomtoddlerclasses.com/dorset/product/payg-%f0%9f%92%90mothers-day-theme%f0%9f%92%90-friday-13-3-25-10-45am-social-superstars-2-4-years-at-canford-heath-community-centre/
LOCATION:Canford Heath Community Centre, Mitchell Road, Canford Heath, Poole, UK
END:VEVENT
END:VCALENDAR
