BEGIN:VCALENDAR
VERSION:2.0
PRODID:-//Bloom Toddler Classes Dorset
CALSCALE:GREGORIAN
METHOD:PUBLISH
X-WR-CALNAME:Bloom Toddler Classes Dorset
X-ORIGINAL-URL:https://bloomtoddlerclasses.com/dorset/product/payg-%f0%9f%92%90mothers-day-theme%f0%9f%92%90-wednesday-11-3-26-9am-mixed-ages-walking-4-years-at-peek-a-boo-and-brew-soft-play-cafe-broadstone/
X-WR-CALDESC:PAYG 💐Mother&#8217;s Day Theme💐 Wednesday 11/3/26 9am – Mixed ages walking-4 years at Peek-a-Boo and Brew Soft Play Café, Broadstone
BEGIN:VEVENT
DTSTART;TZID=Europe/Paris:20260311T090000
DTEND;TZID=Europe/Paris:20260311T104500
SUMMARY:PAYG 💐Mother’s Day Theme💐 Wednesday 11/3/26 9am – Mixed ages walking-4 years at Peek-a-Boo and Brew Soft Play Café, Broadstone
DESCRIPTION:Bloom Toddler Classes are highly interactive multi-sensory classes for toddlers walking – 4 years. 🌟This week's theme is Mother's Day 💐 - come along to celebrate all the fantastic women in your toddler's life!🌟
URL:https://bloomtoddlerclasses.com/dorset/product/payg-%f0%9f%92%90mothers-day-theme%f0%9f%92%90-wednesday-11-3-26-9am-mixed-ages-walking-4-years-at-peek-a-boo-and-brew-soft-play-cafe-broadstone/
LOCATION:Peek-A-Boo & Brew, Macaulay Road, Broadstone, Poole, Broadstone, UK
END:VEVENT
END:VCALENDAR
