BEGIN:VCALENDAR
VERSION:2.0
PRODID:-//Bloom Toddler Classes Dorset
CALSCALE:GREGORIAN
METHOD:PUBLISH
X-WR-CALNAME:Bloom Toddler Classes Dorset
X-ORIGINAL-URL:https://bloomtoddlerclasses.com/dorset/product/payg-%f0%9f%92%90mothers-day-theme%f0%9f%92%90-tuesday-10-3-26-11am-mixed-ages-walking-4-years-at-holt-village-hall/
X-WR-CALDESC:PAYG 💐Mother&#8217;s Day Theme💐 Tuesday 10/3/26 11am – Mixed Ages walking-4 years at Holt Village Hall
BEGIN:VEVENT
DTSTART;TZID=Europe/Paris:20260310T110000
DTEND;TZID=Europe/Paris:20260310T114500
SUMMARY:PAYG 💐Mother’s Day Theme💐 Tuesday 10/3/26 11am – Mixed Ages walking-4 years at Holt Village Hall
DESCRIPTION:Bloom Toddler Classes are highly interactive multi-sensory classes for toddlers walking – 4 years. 🌟This week's theme is Mother's Day 💐 - come along to celebrate all the fantastic women in your toddler's life!🌟
URL:https://bloomtoddlerclasses.com/dorset/product/payg-%f0%9f%92%90mothers-day-theme%f0%9f%92%90-tuesday-10-3-26-11am-mixed-ages-walking-4-years-at-holt-village-hall/
LOCATION:Holt Village Hall, Hart's Lane, Holt, Wimborne, UK
END:VEVENT
END:VCALENDAR
