BEGIN:VCALENDAR
VERSION:2.0
PRODID:-//Bloom Toddler Classes Dorset
CALSCALE:GREGORIAN
METHOD:PUBLISH
X-WR-CALNAME:Bloom Toddler Classes Dorset
X-ORIGINAL-URL:https://bloomtoddlerclasses.com/dorset/product/payg-%f0%9f%92%90mothers-day-theme%f0%9f%92%90-monday-9-3-26-11-40am-social-superstars-2-4-years-at-church-of-the-transfiguration/
X-WR-CALDESC:PAYG 💐Mother&#8217;s Day Theme💐 Monday 9/3/26 11.40am – Social Superstars 2-4 years at Church of the Transfiguration
BEGIN:VEVENT
DTSTART;TZID=Europe/Paris:20260309T114000
DTEND;TZID=Europe/Paris:20260309T122500
SUMMARY:PAYG 💐Mother’s Day Theme💐 Monday 9/3/26 11.40am – Social Superstars 2-4 years at Church of the Transfiguration
DESCRIPTION:Social Superstars is a highly interactive multi-sensory class for toddlers ages 2-4 years. All our classes support pre school readiness and encourage your child’s skills and development through dance and play. We can’t wait to welcome you to our classes 💚💙 🌟This week's theme is Mother's Day 💐 - come along to celebrate all the fantastic women in your toddler's life!🌟
URL:https://bloomtoddlerclasses.com/dorset/product/payg-%f0%9f%92%90mothers-day-theme%f0%9f%92%90-monday-9-3-26-11-40am-social-superstars-2-4-years-at-church-of-the-transfiguration/
LOCATION:Church Of The Transfiguration, Chaddesley Glen, Poole, UK
END:VEVENT
END:VCALENDAR
