BEGIN:VCALENDAR
VERSION:2.0
PRODID:-//Bloom Toddler Classes Dorset
CALSCALE:GREGORIAN
METHOD:PUBLISH
X-WR-CALNAME:Bloom Toddler Classes Dorset
X-ORIGINAL-URL:https://bloomtoddlerclasses.com/dorset/product/payg-%f0%9f%93%96story-land-theme%f0%9f%93%96-tuesday-3-2-26-11am-mixed-ages-walking-4-years-at-holt-village-hall/
X-WR-CALDESC:PAYG 📖Story Land Theme📖 Tuesday 3/3/26 11am – Mixed Ages walking-4 years at Holt Village Hall
BEGIN:VEVENT
DTSTART;TZID=Europe/Paris:20260303T110000
DTEND;TZID=Europe/Paris:20260303T114500
SUMMARY:PAYG 📖Story Land Theme📖 Tuesday 3/3/26 11am – Mixed Ages walking-4 years at Holt Village Hall
DESCRIPTION:Bloom Toddler Classes are highly interactive multi-sensory classes for toddlers walking – 4 years. 🌟This week's theme is Story Land 📖 - get ready to immerse yourself in some of your favourite stories!🌟
URL:https://bloomtoddlerclasses.com/dorset/product/payg-%f0%9f%93%96story-land-theme%f0%9f%93%96-tuesday-3-2-26-11am-mixed-ages-walking-4-years-at-holt-village-hall/
LOCATION:Holt Village Hall, Hart's Lane, Holt, Wimborne, UK
END:VEVENT
END:VCALENDAR
