BEGIN:VCALENDAR
VERSION:2.0
PRODID:-//Bloom Toddler Classes Dorset
CALSCALE:GREGORIAN
METHOD:PUBLISH
X-WR-CALNAME:Bloom Toddler Classes Dorset
X-ORIGINAL-URL:https://bloomtoddlerclasses.com/dorset/product/payg-%f0%9f%a7%bdspring-cleaning-theme%f0%9f%a7%bd-monday-23-02-26-9-30am-creative-learners-walking-24-months-at-church-of-the-transfiguration/
X-WR-CALDESC:PAYG 🧽Spring Cleaning Theme🧽 Monday 23/02/26 9.30am – Creative Learners Walking-24 months at Church of the Transfiguration
BEGIN:VEVENT
DTSTART;TZID=Europe/Paris:20260223T093000
DTEND;TZID=Europe/Paris:20260223T101500
SUMMARY:PAYG 🧽Spring Cleaning Theme🧽 Monday 23/02/26 9.30am – Creative Learners Walking-24 months at Church of the Transfiguration
DESCRIPTION:Creative Learners is a highly interactive multi-sensory class for toddlers walking – 24 months. All our classes support pre school readiness and encourage your child’s skills and development through dance and play. We can’t wait to welcome you to our classes 💚💙 🌟This week's theme is Spring Cleaning 🧽 - let's get Bloom Toddler Classes Dorset shiny and clean together!🌟
URL:https://bloomtoddlerclasses.com/dorset/product/payg-%f0%9f%a7%bdspring-cleaning-theme%f0%9f%a7%bd-monday-23-02-26-9-30am-creative-learners-walking-24-months-at-church-of-the-transfiguration/
LOCATION:Church Of The Transfiguration, Chaddesley Glen, Poole, UK
END:VEVENT
END:VCALENDAR
