BEGIN:VCALENDAR
VERSION:2.0
PRODID:-//Bloom Toddler Classes Dorset
CALSCALE:GREGORIAN
METHOD:PUBLISH
X-WR-CALNAME:Bloom Toddler Classes Dorset
X-ORIGINAL-URL:https://bloomtoddlerclasses.com/dorset/product/%f0%9f%aa%b7early-spring-term%f0%9f%aa%b7-mondays-9-30am-creative-learners-walking-24-months-at-church-of-the-transfiguration/
X-WR-CALDESC:🪷Early Spring Term🪷 Mondays 9.30am &#8211; Creative Learners Walking-24 months at Church of the Transfiguration
BEGIN:VEVENT
DTSTART;TZID=Europe/Paris:20260223T093000
DTEND;TZID=Europe/Paris:20260316T101500
SUMMARY:🪷Early Spring Term🪷 Mondays 9.30am – Creative Learners Walking-24 months at Church of the Transfiguration
DESCRIPTION:Creative Learners is a highly interactive multi-sensory class for toddlers walking – 24 months. All our classes support pre school readiness and encourage your child’s skills and development through dance and play. We can’t wait to welcome you to our classes 💚💙
URL:https://bloomtoddlerclasses.com/dorset/product/%f0%9f%aa%b7early-spring-term%f0%9f%aa%b7-mondays-9-30am-creative-learners-walking-24-months-at-church-of-the-transfiguration/
LOCATION:Church Of The Transfiguration, Chaddesley Glen, Poole, UK
END:VEVENT
END:VCALENDAR
