BEGIN:VCALENDAR
VERSION:2.0
PRODID:-//Bloom Toddler Classes Dorset
CALSCALE:GREGORIAN
METHOD:PUBLISH
X-WR-CALNAME:Bloom Toddler Classes Dorset
X-ORIGINAL-URL:https://bloomtoddlerclasses.com/dorset/product/payg-%f0%9f%a7%91%e2%9a%95%ef%b8%8fpeople-who-help-us-theme%f0%9f%a7%91%e2%9a%95%ef%b8%8f-monday-2-2-26-11-40am-social-superstars-2-4-years-at-church-of-the-transfiguration/
X-WR-CALDESC:PAYG 🧑‍⚕️People Who Help Us Theme🧑‍⚕️ Monday 2/2/26 11.40am – Social Superstars 2-4 years at Church of the Transfiguration
BEGIN:VEVENT
DTSTART;TZID=Europe/Paris:20260202T114000
DTEND;TZID=Europe/Paris:20260202T122500
SUMMARY:PAYG 🧑‍⚕️People Who Help Us Theme🧑‍⚕️ Monday 2/2/26 11.40am – Social Superstars 2-4 years at Church of the Transfiguration
DESCRIPTION:Social Superstars is a highly interactive multi-sensory class for toddlers ages 2-4 years. 🌟This week's theme is People Who Help Us 🧑‍⚕️ - become dentists and fire fighters and help everyone at Bloom Toddler Classes Dorset!🌟
URL:https://bloomtoddlerclasses.com/dorset/product/payg-%f0%9f%a7%91%e2%9a%95%ef%b8%8fpeople-who-help-us-theme%f0%9f%a7%91%e2%9a%95%ef%b8%8f-monday-2-2-26-11-40am-social-superstars-2-4-years-at-church-of-the-transfiguration/
LOCATION:Church Of The Transfiguration, Chaddesley Glen, Poole, UK
END:VEVENT
END:VCALENDAR
