BEGIN:VCALENDAR
VERSION:2.0
PRODID:-//Bloom Toddler Classes Dorset
CALSCALE:GREGORIAN
METHOD:PUBLISH
X-WR-CALNAME:Bloom Toddler Classes Dorset
X-ORIGINAL-URL:https://bloomtoddlerclasses.com/dorset/product/payg-%f0%9f%8d%b0bake-off-theme%f0%9f%8d%b0-friday-30-01-25-10-50am-social-superstars-2-4-years-at-canford-heath-community-centre/
X-WR-CALDESC:PAYG 🍰Bake Off! Theme🍰 Friday 30/01/25 10.50am – Social Superstars 2-4 years at Canford Heath Community Centre
BEGIN:VEVENT
DTSTART;TZID=Europe/Paris:20260130T105000
DTEND;TZID=Europe/Paris:20260130T113500
SUMMARY:PAYG 🍰Bake Off! Theme🍰 Friday 30/01/25 10.50am – Social Superstars 2-4 years at Canford Heath Community Centre
DESCRIPTION:Social Superstars is a highly interactive multi-sensory class for toddlers ages 2-4 years. 🌟This week's theme is Bake Off! 🍰 - grab those whisks and get your recipe books ready!🌟
URL:https://bloomtoddlerclasses.com/dorset/product/payg-%f0%9f%8d%b0bake-off-theme%f0%9f%8d%b0-friday-30-01-25-10-50am-social-superstars-2-4-years-at-canford-heath-community-centre/
LOCATION:Canford Heath Community Centre, Mitchell Road, Canford Heath, Poole, UK
END:VEVENT
END:VCALENDAR
