BEGIN:VCALENDAR
VERSION:2.0
PRODID:-//Bloom Toddler Classes Dorset
CALSCALE:GREGORIAN
METHOD:PUBLISH
X-WR-CALNAME:Bloom Toddler Classes Dorset
X-ORIGINAL-URL:https://bloomtoddlerclasses.com/dorset/product/payg-%f0%9f%8d%b0bake-off-theme%f0%9f%8d%b0-monday-26-01-26-11-40am-social-superstars-2-4-years-at-church-of-the-transfiguration/
X-WR-CALDESC:PAYG 🍰Bake Off! Theme🍰 Monday 26/01/26 11.40am – Social Superstars 2-4 years at Church of the Transfiguration
BEGIN:VEVENT
DTSTART;TZID=Europe/Paris:20260126T114000
DTEND;TZID=Europe/Paris:20260126T122500
SUMMARY:PAYG 🍰Bake Off! Theme🍰 Monday 26/01/26 11.40am – Social Superstars 2-4 years at Church of the Transfiguration
DESCRIPTION:Social Superstars is a highly interactive multi-sensory class for toddlers ages 2-4 years. 🌟This week's theme is Bake Off! 🍰 - grab those whisks and get your recipe books ready!🌟
URL:https://bloomtoddlerclasses.com/dorset/product/payg-%f0%9f%8d%b0bake-off-theme%f0%9f%8d%b0-monday-26-01-26-11-40am-social-superstars-2-4-years-at-church-of-the-transfiguration/
LOCATION:Church Of The Transfiguration, Chaddesley Glen, Poole, UK
END:VEVENT
END:VCALENDAR
