BEGIN:VCALENDAR
VERSION:2.0
PRODID:-//Bloom Toddler Classes Dorset
CALSCALE:GREGORIAN
METHOD:PUBLISH
X-WR-CALNAME:Bloom Toddler Classes Dorset
X-ORIGINAL-URL:https://bloomtoddlerclasses.com/dorset/product/payg-%f0%9f%8c%bcdown-in-the-garden-theme%f0%9f%8c%bc-wednesday-21-01-26-9am-mixed-ages-walking-4-years-at-peek-a-boo-and-brew-soft-play-cafe-broadstone/
X-WR-CALDESC:PAYG 🌼Down in the Garden Theme🌼 Wednesday 21/01/26 9am – Mixed ages walking-4 years at Peek-a-Boo and Brew Soft Play Café, Broadstone
BEGIN:VEVENT
DTSTART;TZID=Europe/Paris:20260121T090000
DTEND;TZID=Europe/Paris:20260121T104500
SUMMARY:PAYG 🌼Down in the Garden Theme🌼 Wednesday 21/01/26 9am – Mixed ages walking-4 years at Peek-a-Boo and Brew Soft Play Café, Broadstone
DESCRIPTION:These sessions are 1 hour and 45 mins long, which include 45 mins of Bloom sensory fun and 1 hour exclusive soft play use! Bloom Toddler Classes are highly interactive multi-sensory classes for toddlers walking – 4 years. 🌟This week's theme is Down in the Garden 🌼 - get your gardening gloves ready and see what you can find !🌟
URL:https://bloomtoddlerclasses.com/dorset/product/payg-%f0%9f%8c%bcdown-in-the-garden-theme%f0%9f%8c%bc-wednesday-21-01-26-9am-mixed-ages-walking-4-years-at-peek-a-boo-and-brew-soft-play-cafe-broadstone/
LOCATION:Peek-A-Boo & Brew, Macaulay Road, Broadstone, Poole, Broadstone, UK
END:VEVENT
END:VCALENDAR
