BEGIN:VCALENDAR
VERSION:2.0
PRODID:-//Bloom Toddler Classes Dorset
CALSCALE:GREGORIAN
METHOD:PUBLISH
X-WR-CALNAME:Bloom Toddler Classes Dorset
X-ORIGINAL-URL:https://bloomtoddlerclasses.com/dorset/product/payg-%f0%9f%8c%bcdown-in-the-garden-theme%f0%9f%8c%bc-monday-19-01-26-11-40am-social-superstars-2-4-years-at-church-of-the-transfiguration/
X-WR-CALDESC:PAYG 🌼Down in the Garden Theme🌼 Monday 19/01/26 11.40am – Social Superstars 2-4 years at Church of the Transfiguration
BEGIN:VEVENT
DTSTART;TZID=Europe/Paris:20260119T114000
DTEND;TZID=Europe/Paris:20260119T122500
SUMMARY:PAYG 🌼Down in the Garden Theme🌼 Monday 19/01/26 11.40am – Social Superstars 2-4 years at Church of the Transfiguration
DESCRIPTION:Social Superstars is a highly interactive multi-sensory class for toddlers ages 2-4 years. 🌟This week's theme is Down in the Garden 🌼 - get your gardening gloves ready and see what you can find !🌟
URL:https://bloomtoddlerclasses.com/dorset/product/payg-%f0%9f%8c%bcdown-in-the-garden-theme%f0%9f%8c%bc-monday-19-01-26-11-40am-social-superstars-2-4-years-at-church-of-the-transfiguration/
LOCATION:Church Of The Transfiguration, Chaddesley Glen, Poole, UK
END:VEVENT
END:VCALENDAR
