BEGIN:VCALENDAR
VERSION:2.0
PRODID:-//Bloom Toddler Classes Dorset
CALSCALE:GREGORIAN
METHOD:PUBLISH
X-WR-CALNAME:Bloom Toddler Classes Dorset
X-ORIGINAL-URL:https://bloomtoddlerclasses.com/dorset/product/payg-%f0%9f%8f%b4%e2%98%a0%ef%b8%8fpirates-theme%f0%9f%8f%b4%e2%98%a0%ef%b8%8ffriday-16-01-25-9-45am-creative-learners-walking-24-months-at-canford-heath-community-centre/
X-WR-CALDESC:PAYG 🏴‍☠️Pirates Theme🏴‍☠️Friday 16/01/25 9.45am – Creative Learners Walking-24 months at Canford Heath Community Centre
BEGIN:VEVENT
DTSTART;TZID=Europe/Paris:20260116T094500
DTEND;TZID=Europe/Paris:20260116T101500
SUMMARY:PAYG 🏴‍☠️Pirates Theme🏴‍☠️Friday 16/01/25 9.45am – Creative Learners Walking-24 months at Canford Heath Community Centre
DESCRIPTION:Creative Learners is a highly interactive multi-sensory class for toddlers walking – 24 months. 🌟This week's theme is Pirates 🏴‍☠️ - put on those eye patches and say arrrrr!🌟
URL:https://bloomtoddlerclasses.com/dorset/product/payg-%f0%9f%8f%b4%e2%98%a0%ef%b8%8fpirates-theme%f0%9f%8f%b4%e2%98%a0%ef%b8%8ffriday-16-01-25-9-45am-creative-learners-walking-24-months-at-canford-heath-community-centre/
LOCATION:Canford Heath Community Centre, Mitchell Road, Canford Heath, Poole, UK
END:VEVENT
END:VCALENDAR
