BEGIN:VCALENDAR
VERSION:2.0
PRODID:-//Bloom Toddler Classes Dorset
CALSCALE:GREGORIAN
METHOD:PUBLISH
X-WR-CALNAME:Bloom Toddler Classes Dorset
X-ORIGINAL-URL:https://bloomtoddlerclasses.com/dorset/product/payg-%f0%9f%8f%b4%e2%98%a0%ef%b8%8fpirates-theme%f0%9f%8f%b4%e2%98%a0%ef%b8%8fmonday-12-01-26-11-40am-social-superstars-2-4-years-at-church-of-the-transfiguration/
X-WR-CALDESC:PAYG 🏴‍☠️Pirates Theme🏴‍☠️Monday 12/01/26 11.40am – Social Superstars 2-4 years at Church of the Transfiguration
BEGIN:VEVENT
DTSTART;TZID=Europe/Paris:20260112T114000
DTEND;TZID=Europe/Paris:20260112T122500
SUMMARY:PAYG 🏴‍☠️Pirates Theme🏴‍☠️Monday 12/01/26 11.40am – Social Superstars 2-4 years at Church of the Transfiguration
DESCRIPTION:Social Superstars is a highly interactive multi-sensory class for toddlers ages 2-4 years. 🌟This week's theme is Pirates 🏴‍☠️ - put on those eye patches and say arrrrr!🌟
URL:https://bloomtoddlerclasses.com/dorset/product/payg-%f0%9f%8f%b4%e2%98%a0%ef%b8%8fpirates-theme%f0%9f%8f%b4%e2%98%a0%ef%b8%8fmonday-12-01-26-11-40am-social-superstars-2-4-years-at-church-of-the-transfiguration/
LOCATION:Church Of The Transfiguration, Chaddesley Glen, Poole, UK
END:VEVENT
END:VCALENDAR
