BEGIN:VCALENDAR
VERSION:2.0
PRODID:-//Bloom Toddler Classes Dorset
CALSCALE:GREGORIAN
METHOD:PUBLISH
X-WR-CALNAME:Bloom Toddler Classes Dorset
X-ORIGINAL-URL:https://bloomtoddlerclasses.com/dorset/product/payg-%f0%9f%8e%93back-to-school-theme%f0%9f%8e%93friday-9-01-25-9-45am-creative-learners-walking-24-months-at-canford-heath-community-centre/
X-WR-CALDESC:PAYG 🎓Back to School Theme🎓Friday 9/01/25 9.45am – Creative Learners Walking-24 months at Canford Heath Community Centre
BEGIN:VEVENT
DTSTART;TZID=Europe/Paris:20260109T094500
DTEND;TZID=Europe/Paris:20260109T101500
SUMMARY:PAYG 🎓Back to School Theme🎓Friday 9/01/25 9.45am – Creative Learners Walking-24 months at Canford Heath Community Centre
DESCRIPTION:Creative Learners is a highly interactive multi-sensory class for toddlers walking – 24 months. 🌟This week's theme is Back to School 🎓 - get your thinking cap on and get ready to learn!🌟
URL:https://bloomtoddlerclasses.com/dorset/product/payg-%f0%9f%8e%93back-to-school-theme%f0%9f%8e%93friday-9-01-25-9-45am-creative-learners-walking-24-months-at-canford-heath-community-centre/
LOCATION:Canford Heath Community Centre, Mitchell Road, Canford Heath, Poole, UK
END:VEVENT
END:VCALENDAR
