BEGIN:VCALENDAR
VERSION:2.0
PRODID:-//Bloom Toddler Classes Dorset
CALSCALE:GREGORIAN
METHOD:PUBLISH
X-WR-CALNAME:Bloom Toddler Classes Dorset
X-ORIGINAL-URL:https://bloomtoddlerclasses.com/dorset/product/payg-%f0%9f%8e%93back-to-school-theme%f0%9f%8e%93tuesday-6-01-26-11am-social-superstars-2-4-years-at-holt-village-hall/
X-WR-CALDESC:PAYG 🎓Back to School Theme🎓Tuesday 6/01/26 11am – Social Superstars 2-4 years at Holt Village Hall
BEGIN:VEVENT
DTSTART;TZID=Europe/Paris:20260106T110000
DTEND;TZID=Europe/Paris:20260106T114500
SUMMARY:PAYG 🎓Back to School Theme🎓Tuesday 6/01/26 11am – Social Superstars 2-4 years at Holt Village Hall
DESCRIPTION:Social Superstars is a highly interactive multi-sensory class for toddlers ages 2-4 years. 🌟This week's theme is Back to School 🎓 - get your thinking cap on and get ready to learn!🌟
URL:https://bloomtoddlerclasses.com/dorset/product/payg-%f0%9f%8e%93back-to-school-theme%f0%9f%8e%93tuesday-6-01-26-11am-social-superstars-2-4-years-at-holt-village-hall/
LOCATION:Holt Village Hall, Hart's Lane, Holt, Wimborne, UK
END:VEVENT
END:VCALENDAR
