BEGIN:VCALENDAR
VERSION:2.0
PRODID:-//Bloom Toddler Classes Dorset
CALSCALE:GREGORIAN
METHOD:PUBLISH
X-WR-CALNAME:Bloom Toddler Classes Dorset
X-ORIGINAL-URL:https://bloomtoddlerclasses.com/dorset/product/payg-%f0%9f%8e%93back-to-school-theme%f0%9f%8e%93tuesday-6-01-26-9-45am-creative-learners-walking-24-months-at-holt-village-hall/
X-WR-CALDESC:PAYG 🎓Back to School Theme🎓Tuesday 6/01/26 9.45am – Creative Learners Walking-24 months at Holt Village Hall
BEGIN:VEVENT
DTSTART;TZID=Europe/Paris:20260106T094500
DTEND;TZID=Europe/Paris:20260106T101500
SUMMARY:PAYG 🎓Back to School Theme🎓Tuesday 6/01/26 9.45am – Creative Learners Walking-24 months at Holt Village Hall
DESCRIPTION:Creative Learners is a highly interactive multi-sensory class for toddlers walking – 24 months. 🌟This week's theme is Back to School 🎓 - get your thinking cap on and get ready to learn!🌟
URL:https://bloomtoddlerclasses.com/dorset/product/payg-%f0%9f%8e%93back-to-school-theme%f0%9f%8e%93tuesday-6-01-26-9-45am-creative-learners-walking-24-months-at-holt-village-hall/
LOCATION:Holt Village Hall, Hart's Lane, Holt, Wimborne, UK
END:VEVENT
END:VCALENDAR
