BEGIN:VCALENDAR
VERSION:2.0
PRODID:-//Bloom Toddler Classes Dorset
CALSCALE:GREGORIAN
METHOD:PUBLISH
X-WR-CALNAME:Bloom Toddler Classes Dorset
X-ORIGINAL-URL:https://bloomtoddlerclasses.com/dorset/product/payg-%f0%9f%8e%93back-to-school-theme%f0%9f%8e%93monday-5-01-26-11-40am-social-superstars-2-4-years-at-church-of-the-transfiguration/
X-WR-CALDESC:PAYG 🎓Back to School Theme🎓Monday 5/01/26 11.40am – Social Superstars 2-4 years at Church of the Transfiguration
BEGIN:VEVENT
DTSTART;TZID=Europe/Paris:20260105T114000
DTEND;TZID=Europe/Paris:20260105T122500
SUMMARY:PAYG 🎓Back to School Theme🎓Monday 5/01/26 11.40am – Social Superstars 2-4 years at Church of the Transfiguration
DESCRIPTION:Social Superstars is a highly interactive multi-sensory class for toddlers ages 2-4 years. 🌟This week's theme is Back to School 🎓 - get your thinking cap on and get ready to learn!🌟
URL:https://bloomtoddlerclasses.com/dorset/product/payg-%f0%9f%8e%93back-to-school-theme%f0%9f%8e%93monday-5-01-26-11-40am-social-superstars-2-4-years-at-church-of-the-transfiguration/
LOCATION:Church Of The Transfiguration, Chaddesley Glen, Poole, UK
END:VEVENT
END:VCALENDAR
