BEGIN:VCALENDAR
VERSION:2.0
PRODID:-//Bloom Toddler Classes Dorset
CALSCALE:GREGORIAN
METHOD:PUBLISH
X-WR-CALNAME:Bloom Toddler Classes Dorset
X-ORIGINAL-URL:https://bloomtoddlerclasses.com/dorset/product/payg-%f0%9f%8e%93back-to-school-theme%f0%9f%8e%93-monday-5-01-26-10-35am-creative-learners-walking-24-months-at-church-of-the-transfiguration/
X-WR-CALDESC:PAYG 🎓Back to School Theme🎓 Monday 5/01/26 10.35am – Creative Learners Walking-24 months at Church of the Transfiguration
BEGIN:VEVENT
DTSTART;TZID=Europe/Paris:20260105T103500
DTEND;TZID=Europe/Paris:20260105T112000
SUMMARY:PAYG 🎓Back to School Theme🎓 Monday 5/01/26 10.35am – Creative Learners Walking-24 months at Church of the Transfiguration
DESCRIPTION:Creative Learners is a highly interactive multi-sensory class for toddlers walking – 24 months. 🌟This week's theme is Back to School 🎓- get your thinking cap on and get ready to learn! - get your thinking cap on and get ready to learn!🌟
URL:https://bloomtoddlerclasses.com/dorset/product/payg-%f0%9f%8e%93back-to-school-theme%f0%9f%8e%93-monday-5-01-26-10-35am-creative-learners-walking-24-months-at-church-of-the-transfiguration/
LOCATION:Church Of The Transfiguration, Chaddesley Glen, Poole, UK
END:VEVENT
END:VCALENDAR
