BEGIN:VCALENDAR
VERSION:2.0
PRODID:-//Bloom Toddler Classes Dorset
CALSCALE:GREGORIAN
METHOD:PUBLISH
X-WR-CALNAME:Bloom Toddler Classes Dorset
X-ORIGINAL-URL:https://bloomtoddlerclasses.com/dorset/product/payg-%f0%9f%a6%b8superhero-theme%f0%9f%a6%b8-monday-1-12-25-9-30am-creative-learners-walking-24-months-at-church-of-the-transfiguration/
X-WR-CALDESC:PAYG 🦸Superhero Theme🦸 Monday 1/12/25 9.30am – Creative Learners Walking-24 months at Church of the Transfiguration
BEGIN:VEVENT
DTSTART;TZID=Europe/Paris:20251201T093000
DTEND;TZID=Europe/Paris:20251201T101500
SUMMARY:PAYG 🦸Superhero Theme🦸 Monday 1/12/25 9.30am – Creative Learners Walking-24 months at Church of the Transfiguration
DESCRIPTION:Creative Learners is a highly interactive multi-sensory class for toddlers walking – 24 months. 🌟This week's theme is Superheroes 🦸 - expect masks, capes and villains!🌟
URL:https://bloomtoddlerclasses.com/dorset/product/payg-%f0%9f%a6%b8superhero-theme%f0%9f%a6%b8-monday-1-12-25-9-30am-creative-learners-walking-24-months-at-church-of-the-transfiguration/
LOCATION:Church Of The Transfiguration, Chaddesley Glen, Poole, UK
END:VEVENT
END:VCALENDAR
