BEGIN:VCALENDAR
VERSION:2.0
PRODID:-//Bloom Toddler Classes Dorset
CALSCALE:GREGORIAN
METHOD:PUBLISH
X-WR-CALNAME:Bloom Toddler Classes Dorset
X-ORIGINAL-URL:https://bloomtoddlerclasses.com/dorset/product/%f0%9f%8e%89new-year-term%f0%9f%8e%89fridays-9-45am-creative-learners-walking-24-months-at-canford-heath-community-centre/
X-WR-CALDESC:🎉New Year Term🎉Fridays 9.45am &#8211; Creative Learners Walking-24 months at Canford Heath Community Centre
BEGIN:VEVENT
DTSTART;TZID=Europe/Paris:20260109T094500
DTEND;TZID=Europe/Paris:20260206T094500
SUMMARY:🎉New Year Term🎉Fridays 9.45am – Creative Learners Walking-24 months at Canford Heath Community Centre
DESCRIPTION:Creative Learners is a highly interactive multi-sensory class for toddlers walking – 24 months. All our classes support pre school readiness and encourage your child’s skills and development through dance and play. We can’t wait to welcome you to our classes 💚💙
URL:https://bloomtoddlerclasses.com/dorset/product/%f0%9f%8e%89new-year-term%f0%9f%8e%89fridays-9-45am-creative-learners-walking-24-months-at-canford-heath-community-centre/
LOCATION:Canford Heath Community Centre, Mitchell Road, Canford Heath, Poole, UK
END:VEVENT
END:VCALENDAR
