BEGIN:VCALENDAR
VERSION:2.0
PRODID:-//Bloom Toddler Classes Dorset
CALSCALE:GREGORIAN
METHOD:PUBLISH
X-WR-CALNAME:Bloom Toddler Classes Dorset
X-ORIGINAL-URL:https://bloomtoddlerclasses.com/dorset/product/%f0%9f%8e%85christmas-mini-session%f0%9f%8e%85-peek-a-boo-and-brew-16-12-25-9am/
X-WR-CALDESC:🎅Christmas Mini Session🎅@ Peek-a-Boo and Brew 16/12/25 9am
BEGIN:VEVENT
DTSTART;TZID=Europe/Paris:20251216T090000
DTEND;TZID=Europe/Paris:20251216T104500
SUMMARY:🎅Christmas Mini Session🎅@ Peek-a-Boo and Brew 16/12/25 9am
DESCRIPTION:❓Want to try Bloom Toddler Classes Dorset for the first time? ❓Missed out on my main Christmas sessions? 🎅Then join me for a Christmas Mini Session at Peek-a-Boo and Brew in Broadstone!
URL:https://bloomtoddlerclasses.com/dorset/product/%f0%9f%8e%85christmas-mini-session%f0%9f%8e%85-peek-a-boo-and-brew-16-12-25-9am/
LOCATION:Peek-A-Boo & Brew, Macaulay Road, Broadstone, Poole, Broadstone, UK
END:VEVENT
END:VCALENDAR
