BEGIN:VCALENDAR
VERSION:2.0
PRODID:-//Bloom Toddler Classes Dorset
CALSCALE:GREGORIAN
METHOD:PUBLISH
X-WR-CALNAME:Bloom Toddler Classes Dorset
X-ORIGINAL-URL:https://bloomtoddlerclasses.com/dorset/product/%f0%9f%8e%85christmas-special%f0%9f%8e%85-friday-19-12-25-10am-mixed-ages-st-marks-church-hall/
X-WR-CALDESC:🎅Christmas Special🎅 Friday 19/12/25 10am Mixed Ages @ St Mark&#8217;s Church Hall
BEGIN:VEVENT
DTSTART;TZID=Europe/Paris:20251219T100000
DTEND;TZID=Europe/Paris:20251219T105500
SUMMARY:🎅Christmas Special🎅 Friday 19/12/25 10am Mixed Ages @ St Mark’s Church Hall
DESCRIPTION:🎅Christmas Specials are here!🎅 🎄Come and join me for a fun filled 55 mins of Bloom Toddler Christmas magic!🎄
URL:https://bloomtoddlerclasses.com/dorset/product/%f0%9f%8e%85christmas-special%f0%9f%8e%85-friday-19-12-25-10am-mixed-ages-st-marks-church-hall/
LOCATION:St Mark's Church, Talbot Village, Wallisdown Road, Bournemouth, UK
END:VEVENT
END:VCALENDAR
