BEGIN:VCALENDAR
VERSION:2.0
PRODID:-//Bloom Toddler Classes Dorset
CALSCALE:GREGORIAN
METHOD:PUBLISH
X-WR-CALNAME:Bloom Toddler Classes Dorset
X-ORIGINAL-URL:https://bloomtoddlerclasses.com/dorset/product/%f0%9f%8e%85christmas-special%f0%9f%8e%85-monday-15-12-25-9-30am-mixed-ages-church-of-the-transfiguration/
X-WR-CALDESC:🎅Christmas Special🎅 Monday 15/12/25 9.30am Mixed Ages @ Church of the Transfiguration
BEGIN:VEVENT
DTSTART;TZID=Europe/Paris:20251215T093000
DTEND;TZID=Europe/Paris:20251215T102500
SUMMARY:🎅Christmas Special🎅 Monday 15/12/25 9.30am Mixed Ages @ Church of the Transfiguration
DESCRIPTION:🎅Christmas Specials are here!🎅 🎄Come and join me for a fun filled 55 mins of Bloom Toddler Christmas magic!🎄
URL:https://bloomtoddlerclasses.com/dorset/product/%f0%9f%8e%85christmas-special%f0%9f%8e%85-monday-15-12-25-9-30am-mixed-ages-church-of-the-transfiguration/
LOCATION:Church Of The Transfiguration, Chaddesley Glen, Poole, UK
END:VEVENT
END:VCALENDAR
