BEGIN:VCALENDAR
VERSION:2.0
PRODID:-//Bloom Toddler Classes Dorset
CALSCALE:GREGORIAN
METHOD:PUBLISH
X-WR-CALNAME:Bloom Toddler Classes Dorset
X-ORIGINAL-URL:https://bloomtoddlerclasses.com/dorset/product/payg-%e2%9d%84%ef%b8%8fwinter-wonderland-theme%e2%9d%84%ef%b8%8f-tuesday-9-12-25-11am-social-superstars-2-4-years-at-holt-village-hall/
X-WR-CALDESC:PAYG ❄️Winter Wonderland Theme❄️ Tuesday 9/12/25 11am – Social Superstars 2-4 years at Holt Village Hall
BEGIN:VEVENT
DTSTART;TZID=Europe/Paris:20251209T110000
DTEND;TZID=Europe/Paris:20251209T114500
SUMMARY:PAYG ❄️Winter Wonderland Theme❄️ Tuesday 9/12/25 11am – Social Superstars 2-4 years at Holt Village Hall
DESCRIPTION:Social Superstars is a highly interactive multi-sensory class for toddlers ages 2-4 years. 🌟This week's theme is Winter Wonderland ❄️ - expect lots of snow and snowmen!🌟
URL:https://bloomtoddlerclasses.com/dorset/product/payg-%e2%9d%84%ef%b8%8fwinter-wonderland-theme%e2%9d%84%ef%b8%8f-tuesday-9-12-25-11am-social-superstars-2-4-years-at-holt-village-hall/
LOCATION:Holt Village Hall, Hart's Lane, Holt, Wimborne, UK
END:VEVENT
END:VCALENDAR
