BEGIN:VCALENDAR
VERSION:2.0
PRODID:-//Bloom Toddler Classes Dorset
CALSCALE:GREGORIAN
METHOD:PUBLISH
X-WR-CALNAME:Bloom Toddler Classes Dorset
X-ORIGINAL-URL:https://bloomtoddlerclasses.com/dorset/product/payg-%e2%9d%84%ef%b8%8fwinter-wonderland-theme%e2%9d%84%ef%b8%8f-monday-8-12-25-11-40am-social-superstars-2-4-years-at-church-of-the-transfiguration/
X-WR-CALDESC:PAYG ❄️Winter Wonderland Theme❄️ Monday 8/12/25 11.40am – Social Superstars 2-4 years at Church of the Transfiguration
BEGIN:VEVENT
DTSTART;TZID=Europe/Paris:20251208T114000
DTEND;TZID=Europe/Paris:20251208T122500
SUMMARY:PAYG ❄️Winter Wonderland Theme❄️ Monday 8/12/25 11.40am – Social Superstars 2-4 years at Church of the Transfiguration
DESCRIPTION:Social Superstars is a highly interactive multi-sensory class for toddlers ages 2-4 years. 🌟This week's theme is Winter Wonderland ❄️ - expect lots of snow and snowmen!🌟
URL:https://bloomtoddlerclasses.com/dorset/product/payg-%e2%9d%84%ef%b8%8fwinter-wonderland-theme%e2%9d%84%ef%b8%8f-monday-8-12-25-11-40am-social-superstars-2-4-years-at-church-of-the-transfiguration/
LOCATION:Church Of The Transfiguration, Chaddesley Glen, Poole, UK
END:VEVENT
END:VCALENDAR
