BEGIN:VCALENDAR
VERSION:2.0
PRODID:-//Bloom Toddler Classes Dorset
CALSCALE:GREGORIAN
METHOD:PUBLISH
X-WR-CALNAME:Bloom Toddler Classes Dorset
X-ORIGINAL-URL:https://bloomtoddlerclasses.com/dorset/product/payg-%e2%9d%84%ef%b8%8fwinter-wonderland-theme%e2%9d%84%ef%b8%8f-tuesday-9-1-25-9-45am-creative-learners-walking-24-months-at-holt-village-hall/
X-WR-CALDESC:PAYG ❄️Winter Wonderland Theme❄️ Tuesday 9/12/25 9.45am – Creative Learners Walking-24 months at Holt Village Hall
BEGIN:VEVENT
DTSTART;TZID=Europe/Paris:20251209T094500
DTEND;TZID=Europe/Paris:20251209T103000
SUMMARY:PAYG ❄️Winter Wonderland Theme❄️ Tuesday 9/12/25 9.45am – Creative Learners Walking-24 months at Holt Village Hall
DESCRIPTION:Creative Learners is a highly interactive multi-sensory class for toddlers walking – 24 months. 🌟This week's theme is Winter Wonderland ❄️ - expect lots of snow and snowmen!🌟
URL:https://bloomtoddlerclasses.com/dorset/product/payg-%e2%9d%84%ef%b8%8fwinter-wonderland-theme%e2%9d%84%ef%b8%8f-tuesday-9-1-25-9-45am-creative-learners-walking-24-months-at-holt-village-hall/
LOCATION:Holt Village Hall, Hart's Lane, Holt, Wimborne, UK
END:VEVENT
END:VCALENDAR
