BEGIN:VCALENDAR
VERSION:2.0
PRODID:-//Bloom Toddler Classes Dorset
CALSCALE:GREGORIAN
METHOD:PUBLISH
X-WR-CALNAME:Bloom Toddler Classes Dorset
X-ORIGINAL-URL:https://bloomtoddlerclasses.com/dorset/product/payg-%f0%9f%a6%b8superhero-theme%f0%9f%a6%b8-wednesday-3-1-25-9-45am-creative-learners-walking-24-months-at-butchers-coppice-explorers-room/
X-WR-CALDESC:PAYG 🦸Superhero Theme🦸 Wednesday 3/12/25 9.45am – Mixed Ages (walking-4 years)  at Butchers Coppice, Explorers Room
BEGIN:VEVENT
DTSTART;TZID=Europe/Paris:20251203T094500
DTEND;TZID=Europe/Paris:20251203T103000
SUMMARY:PAYG 🦸Superhero Theme🦸 Wednesday 3/12/25 9.45am – Mixed Ages (walking-4 years)  at Butchers Coppice, Explorers Room
DESCRIPTION:🌟This week's theme is Superheroes 🦸 - expect masks, capes and villains!🌟
URL:https://bloomtoddlerclasses.com/dorset/product/payg-%f0%9f%a6%b8superhero-theme%f0%9f%a6%b8-wednesday-3-1-25-9-45am-creative-learners-walking-24-months-at-butchers-coppice-explorers-room/
LOCATION:Butcher's Coppice, Bournemouth, UK
END:VEVENT
END:VCALENDAR
