BEGIN:VCALENDAR
VERSION:2.0
PRODID:-//Bloom Toddler Classes Dorset
CALSCALE:GREGORIAN
METHOD:PUBLISH
X-WR-CALNAME:Bloom Toddler Classes Dorset
X-ORIGINAL-URL:https://bloomtoddlerclasses.com/dorset/product/payg-%f0%9f%a6%84mythical-creatures-theme%f0%9f%a6%84-monday-24-11-25-11-40am-social-superstars-2-4-years-at-church-of-the-transfiguration/
X-WR-CALDESC:PAYG 🦄Mythical Creatures Theme🦄 Monday 24/11/25 11.40am – Social Superstars 2-4 years at Church of the Transfiguration
BEGIN:VEVENT
DTSTART;TZID=Europe/Paris:20251124T114000
DTEND;TZID=Europe/Paris:20251124T122500
SUMMARY:PAYG 🦄Mythical Creatures Theme🦄 Monday 24/11/25 11.40am – Social Superstars 2-4 years at Church of the Transfiguration
DESCRIPTION:Social Superstars is a highly interactive multi-sensory class for toddlers ages 2-4 years. 🌟This week's theme is Mythical Creatures 🦄 - expect to find dragons, mermaids and unicorns!🌟
URL:https://bloomtoddlerclasses.com/dorset/product/payg-%f0%9f%a6%84mythical-creatures-theme%f0%9f%a6%84-monday-24-11-25-11-40am-social-superstars-2-4-years-at-church-of-the-transfiguration/
LOCATION:Church Of The Transfiguration, Chaddesley Glen, Poole, UK
END:VEVENT
END:VCALENDAR
