BEGIN:VCALENDAR
VERSION:2.0
PRODID:-//Bloom Toddler Classes Dorset
CALSCALE:GREGORIAN
METHOD:PUBLISH
X-WR-CALNAME:Bloom Toddler Classes Dorset
X-ORIGINAL-URL:https://bloomtoddlerclasses.com/dorset/product/payg-%f0%9f%a6%84mythical-creatures-theme%f0%9f%a6%84-tuesday-25-11-25-9-45am-creative-learners-walking-24-months-at-holt-village-hall/
X-WR-CALDESC:PAYG 🦄Mythical Creatures Theme🦄 Tuesday 25/11/25 9.45am – Creative Learners Walking-24 months at Holt Village Hall
BEGIN:VEVENT
DTSTART;TZID=Europe/Paris:20251125T094500
DTEND;TZID=Europe/Paris:20251125T103000
SUMMARY:PAYG 🦄Mythical Creatures Theme🦄 Tuesday 25/11/25 9.45am – Creative Learners Walking-24 months at Holt Village Hall
DESCRIPTION:Creative Learners is a highly interactive multi-sensory class for toddlers walking – 24 months. 🌟This week's theme is Mythical Creatures 🦄 - expect to find dragons, mermaids and unicorns!🌟
URL:https://bloomtoddlerclasses.com/dorset/product/payg-%f0%9f%a6%84mythical-creatures-theme%f0%9f%a6%84-tuesday-25-11-25-9-45am-creative-learners-walking-24-months-at-holt-village-hall/
LOCATION:Holt Village Hall, Hart's Lane, Holt, Wimborne, UK
END:VEVENT
END:VCALENDAR
