BEGIN:VCALENDAR
VERSION:2.0
PRODID:-//Bloom Toddler Classes Dorset
CALSCALE:GREGORIAN
METHOD:PUBLISH
X-WR-CALNAME:Bloom Toddler Classes Dorset
X-ORIGINAL-URL:https://bloomtoddlerclasses.com/dorset/product/payg-%f0%9f%8c%88rainbow-theme%f0%9f%8c%88-monday-17-11-25-11-40am-social-superstars-2-4-years-at-church-of-the-transfiguration/
X-WR-CALDESC:PAYG 🌈Rainbow Theme🌈 Monday 17/11/25 11.40am – Social Superstars 2-4 years at Church of the Transfiguration
BEGIN:VEVENT
DTSTART;TZID=Europe/Paris:20251117T114000
DTEND;TZID=Europe/Paris:20251117T122500
SUMMARY:PAYG 🌈Rainbow Theme🌈 Monday 17/11/25 11.40am – Social Superstars 2-4 years at Church of the Transfiguration
DESCRIPTION:Social Superstars is a highly interactive multi-sensory class for toddlers ages 2-4 years. 🌟This week's theme is Rainbow 🌈 - expect lots of bright colours, rainbow painting and pom poms!🌟
URL:https://bloomtoddlerclasses.com/dorset/product/payg-%f0%9f%8c%88rainbow-theme%f0%9f%8c%88-monday-17-11-25-11-40am-social-superstars-2-4-years-at-church-of-the-transfiguration/
LOCATION:Church Of The Transfiguration, Chaddesley Glen, Poole, UK
END:VEVENT
END:VCALENDAR
