BEGIN:VCALENDAR
VERSION:2.0
PRODID:-//Bloom Toddler Classes Dorset
CALSCALE:GREGORIAN
METHOD:PUBLISH
X-WR-CALNAME:Bloom Toddler Classes Dorset
X-ORIGINAL-URL:https://bloomtoddlerclasses.com/dorset/product/payg-%f0%9f%8c%88rainbow-theme%f0%9f%8c%88-friday-21-11-25-9-45am-creative-learners-walking-24-months-at-st-marks-church-hall/
X-WR-CALDESC:PAYG 🌈Rainbow Theme🌈 Friday 21/11/25 9.45am – Creative Learners Walking-24 months at St Mark&#8217;s Church Hall
BEGIN:VEVENT
DTSTART;TZID=Europe/Paris:20251121T094500
DTEND;TZID=Europe/Paris:20251121T103000
SUMMARY:PAYG 🌈Rainbow Theme🌈 Friday 21/11/25 9.45am – Creative Learners Walking-24 months at St Mark’s Church Hall
DESCRIPTION:Creative Learners is a highly interactive multi-sensory class for toddlers walking – 24 months. 🌟This week's theme is Rainbow 🌈 - expect lots of bright colours, rainbow painting and pom poms!🌟
URL:https://bloomtoddlerclasses.com/dorset/product/payg-%f0%9f%8c%88rainbow-theme%f0%9f%8c%88-friday-21-11-25-9-45am-creative-learners-walking-24-months-at-st-marks-church-hall/
LOCATION:St Mark's Church, Talbot Village, Wallisdown Road, Bournemouth, UK
END:VEVENT
END:VCALENDAR
