BEGIN:VCALENDAR
VERSION:2.0
PRODID:-//Bloom Toddler Classes Dorset
CALSCALE:GREGORIAN
METHOD:PUBLISH
X-WR-CALNAME:Bloom Toddler Classes Dorset
X-ORIGINAL-URL:https://bloomtoddlerclasses.com/dorset/product/payg-%f0%9f%8c%88rainbow-theme%f0%9f%8c%88-wednesday-19-11-25-9-45am-creative-learners-walking-24-months-at-butchers-coppice-explorers-room/
X-WR-CALDESC:PAYG 🌈Rainbow Theme🌈 Wednesday 19/11/25 9.45am – Mixed Ages (walking-4 years) at Butchers Coppice, Explorers Room
BEGIN:VEVENT
DTSTART;TZID=Europe/Paris:20251119T094500
DTEND;TZID=Europe/Paris:20251119T103000
SUMMARY:PAYG 🌈Rainbow Theme🌈 Wednesday 19/11/25 9.45am – Mixed Ages (walking-4 years) at Butchers Coppice, Explorers Room
DESCRIPTION:🌟This week's theme is Rainbow 🌈 - expect lots of bright colours, rainbow painting and pom poms!🌟
URL:https://bloomtoddlerclasses.com/dorset/product/payg-%f0%9f%8c%88rainbow-theme%f0%9f%8c%88-wednesday-19-11-25-9-45am-creative-learners-walking-24-months-at-butchers-coppice-explorers-room/
LOCATION:Butcher's Coppice, Bournemouth, UK
END:VEVENT
END:VCALENDAR
