BEGIN:VCALENDAR
VERSION:2.0
PRODID:-//Bloom Toddler Classes Dorset
CALSCALE:GREGORIAN
METHOD:PUBLISH
X-WR-CALNAME:Bloom Toddler Classes Dorset
X-ORIGINAL-URL:https://bloomtoddlerclasses.com/dorset/product/payg-%f0%9f%8c%a7%ef%b8%8frainy-days-theme%f0%9f%8c%a7%ef%b8%8f-tuesday-11-11-25-11am-social-superstars-2-4-years-at-holt-village-hall/
X-WR-CALDESC:PAYG 🌧️Rainy Days Theme🌧️ Tuesday 11/11/25 11am – Social Superstars 2-4 years at Holt Village Hall
BEGIN:VEVENT
DTSTART;TZID=Europe/Paris:20251111T110000
DTEND;TZID=Europe/Paris:20251111T114500
SUMMARY:PAYG 🌧️Rainy Days Theme🌧️ Tuesday 11/11/25 11am – Social Superstars 2-4 years at Holt Village Hall
DESCRIPTION:Social Superstars is a highly interactive multi-sensory class for toddlers ages 2-4 years. 🌟This week's theme is Rainy Days 🌧️ - expect muddy puddles and take home your own rain maker!🌟
URL:https://bloomtoddlerclasses.com/dorset/product/payg-%f0%9f%8c%a7%ef%b8%8frainy-days-theme%f0%9f%8c%a7%ef%b8%8f-tuesday-11-11-25-11am-social-superstars-2-4-years-at-holt-village-hall/
LOCATION:Holt Village Hall, Hart's Lane, Holt, Wimborne, UK
END:VEVENT
END:VCALENDAR
