BEGIN:VCALENDAR
VERSION:2.0
PRODID:-//Bloom Toddler Classes Dorset
CALSCALE:GREGORIAN
METHOD:PUBLISH
X-WR-CALNAME:Bloom Toddler Classes Dorset
X-ORIGINAL-URL:https://bloomtoddlerclasses.com/dorset/product/payg-%f0%9f%8c%a7%ef%b8%8frainy-days-theme%f0%9f%8c%a7%ef%b8%8f-monday-10-11-25-10-35am-creative-learners-walking-24-months-at-church-of-the-transfiguration/
X-WR-CALDESC:PAYG 🌧️Rainy Days Theme🌧️ Monday 10/11/25 10.35am – Creative Learners Walking-24 months at Church of the Transfiguration
BEGIN:VEVENT
DTSTART;TZID=Europe/Paris:20251110T103500
DTEND;TZID=Europe/Paris:20251110T112000
SUMMARY:PAYG 🌧️Rainy Days Theme🌧️ Monday 10/11/25 10.35am – Creative Learners Walking-24 months at Church of the Transfiguration
DESCRIPTION:Creative Learners is a highly interactive multi-sensory class for toddlers walking – 24 months. 🌟This week's theme is Rainy Days 🌧️ - expect muddy puddles and take home your own rain maker!🌟
URL:https://bloomtoddlerclasses.com/dorset/product/payg-%f0%9f%8c%a7%ef%b8%8frainy-days-theme%f0%9f%8c%a7%ef%b8%8f-monday-10-11-25-10-35am-creative-learners-walking-24-months-at-church-of-the-transfiguration/
LOCATION:Church Of The Transfiguration, Chaddesley Glen, Poole, UK
END:VEVENT
END:VCALENDAR
