BEGIN:VCALENDAR
VERSION:2.0
PRODID:-//Bloom Toddler Classes Dorset
CALSCALE:GREGORIAN
METHOD:PUBLISH
X-WR-CALNAME:Bloom Toddler Classes Dorset
X-ORIGINAL-URL:https://bloomtoddlerclasses.com/dorset/product/payg-%f0%9f%8d%82autumn-theme%f0%9f%8d%82-friday-7-11-25-9-45am-creative-learners-walking-24-months-at-st-marks-church-hall/
X-WR-CALDESC:PAYG 🍂Autumn Theme🍂 Friday 7/11/25 9.45am – Creative Learners Walking-24 months at St Mark&#8217;s Church Hall
BEGIN:VEVENT
DTSTART;TZID=Europe/Paris:20251107T094500
DTEND;TZID=Europe/Paris:20251107T103000
SUMMARY:PAYG 🍂Autumn Theme🍂 Friday 7/11/25 9.45am – Creative Learners Walking-24 months at St Mark’s Church Hall
DESCRIPTION:Creative Learners is a highly interactive multi-sensory class for toddlers walking – 24 months. 🌟This week's theme is Autumn 🍂 - expect plenty of falling leaves, autumnal tuff tray activities and lots of conkers, acorns and pine cones!🌟
URL:https://bloomtoddlerclasses.com/dorset/product/payg-%f0%9f%8d%82autumn-theme%f0%9f%8d%82-friday-7-11-25-9-45am-creative-learners-walking-24-months-at-st-marks-church-hall/
LOCATION:St Mark's Church, Talbot Village, Wallisdown Road, Bournemouth, UK
END:VEVENT
END:VCALENDAR
