BEGIN:VCALENDAR
VERSION:2.0
PRODID:-//Bloom Toddler Classes Dorset
CALSCALE:GREGORIAN
METHOD:PUBLISH
X-WR-CALNAME:Bloom Toddler Classes Dorset
X-ORIGINAL-URL:https://bloomtoddlerclasses.com/dorset/product/payg-%f0%9f%8d%82autumn-theme%f0%9f%8d%82-tuesday-4-11-25-9-45am-creative-learners-walking-24-months-at-holt-village-hall/
X-WR-CALDESC:PAYG 🍂Autumn Theme🍂 Tuesday 4/11/25 9.45am – Creative Learners Walking-24 months at Holt Village Hall
BEGIN:VEVENT
DTSTART;TZID=Europe/Paris:20251104T094500
DTEND;TZID=Europe/Paris:20251104T103000
SUMMARY:PAYG 🍂Autumn Theme🍂 Tuesday 4/11/25 9.45am – Creative Learners Walking-24 months at Holt Village Hall
DESCRIPTION:Creative Learners is a highly interactive multi-sensory class for toddlers walking – 24 months. 🌟This week's theme is Autumn 🍂 - expect plenty of falling leaves, autumnal tuff tray activities and lots of conkers, acorns and pine cones!🌟
URL:https://bloomtoddlerclasses.com/dorset/product/payg-%f0%9f%8d%82autumn-theme%f0%9f%8d%82-tuesday-4-11-25-9-45am-creative-learners-walking-24-months-at-holt-village-hall/
LOCATION:Holt Village Hall, Hart's Lane, Holt, Wimborne, UK
END:VEVENT
END:VCALENDAR
