BEGIN:VCALENDAR
VERSION:2.0
PRODID:-//Bloom Toddler Classes Dorset
CALSCALE:GREGORIAN
METHOD:PUBLISH
X-WR-CALNAME:Bloom Toddler Classes Dorset
X-ORIGINAL-URL:https://bloomtoddlerclasses.com/dorset/product/%f0%9f%8e%83halloween-mini-session%f0%9f%8e%83-peek-a-boo-and-brew-22-10-25-9am/
X-WR-CALDESC:🎃Halloween Mini Session🎃 @ Peek-a-Boo and Brew 22/10/25 9am
BEGIN:VEVENT
DTSTART;TZID=Europe/Paris:20251022T090000
DTEND;TZID=Europe/Paris:20251022T104500
SUMMARY:🎃Halloween Mini Session🎃 @ Peek-a-Boo and Brew 22/10/25 9am
DESCRIPTION:🎃Join me for a Halloween Mini Session at Peek-a-Boo and Brew in Broadstone!🎃
URL:https://bloomtoddlerclasses.com/dorset/product/%f0%9f%8e%83halloween-mini-session%f0%9f%8e%83-peek-a-boo-and-brew-22-10-25-9am/
LOCATION:Peek-A-Boo & Brew, Macaulay Road, Broadstone, Poole, Broadstone, UK
END:VEVENT
END:VCALENDAR
