BEGIN:VCALENDAR
VERSION:2.0
PRODID:-//Bloom Toddler Classes Dorset
CALSCALE:GREGORIAN
METHOD:PUBLISH
X-WR-CALNAME:Bloom Toddler Classes Dorset
X-ORIGINAL-URL:https://bloomtoddlerclasses.com/dorset/product/payg-%f0%9f%8d%82autumn-term-1%f0%9f%8d%82-monday-6-10-25-9-45am-creative-learners-walking-24-months-at-church-of-the-transfiguration/
X-WR-CALDESC:PAYG 🍂Autumn Term 1🍂 Monday 6/10/25 9.45am – Creative Learners Walking-24 months at Church of the Transfiguration
BEGIN:VEVENT
DTSTART;TZID=Europe/Paris:20251006T094500
DTEND;TZID=Europe/Paris:20251006T103000
SUMMARY:PAYG 🍂Autumn Term 1🍂 Monday 6/10/25 9.45am – Creative Learners Walking-24 months at Church of the Transfiguration
DESCRIPTION:Creative Learners is a highly interactive multi-sensory class for toddlers walking – 24 months. 🌟This week's theme is Dinosaurs 🦖🦕- get ready to go back in time and roar like a dinosaur!🌟
URL:https://bloomtoddlerclasses.com/dorset/product/payg-%f0%9f%8d%82autumn-term-1%f0%9f%8d%82-monday-6-10-25-9-45am-creative-learners-walking-24-months-at-church-of-the-transfiguration/
LOCATION:Church Of The Transfiguration, Chaddesley Glen, Poole, UK
END:VEVENT
END:VCALENDAR
